BEGIN:VCALENDAR
VERSION:2.0
PRODID:-//MediaDesign//MediaDesign.at//DE
CALSCALE:GREGORIAN
BEGIN:VEVENT
DTSTART:20201018T180000
DTEND:20201018T190000
LOCATION:Thurnhofgasse 14\, 3580 Horn
DTSTAMP:20260419T134414
SUMMARY:I Am Greta
URL;VALUE=URI:https://horn.gv.at
DESCRIPTION:Dokumentation
UID:20260419T134414-20201018T180000-20201018T190000
END:VEVENT
END:VCALENDAR