BEGIN:VCALENDAR
VERSION:2.0
PRODID:-//MediaDesign//MediaDesign.at//DE
CALSCALE:GREGORIAN
BEGIN:VEVENT
DTSTART:20201114T160000
DTEND:20201114T170000
LOCATION:Hauptstraße 8\, 3754 Irnfritz
DTSTAMP:20260420T222346
SUMMARY:ABGESAGT Pinocchio
URL;VALUE=URI:https://horn.gv.at
DESCRIPTION:
UID:20260420T222346-20201114T160000-20201114T170000
END:VEVENT
END:VCALENDAR