BEGIN:VCALENDAR
VERSION:2.0
PRODID:-//MediaDesign//MediaDesign.at//DE
CALSCALE:GREGORIAN
BEGIN:VEVENT
DTSTART:20201107T160000
DTEND:20201107T170000
LOCATION:Hauptstraße 32\,  3842 Thaya
DTSTAMP:20260420T160054
SUMMARY:ABGESAGT Pinocchio
URL;VALUE=URI:https://horn.gv.at
DESCRIPTION:
UID:20260420T160054-20201107T160000-20201107T170000
END:VEVENT
END:VCALENDAR