BEGIN:VCALENDAR
VERSION:2.0
PRODID:-//MediaDesign//MediaDesign.at//DE
CALSCALE:GREGORIAN
BEGIN:VEVENT
DTSTART:20201024T200000
DTEND:20201024T210000
LOCATION:Raabser Straße 15\, 3812 Groß-Siegharts
DTSTAMP:20260420T012448
SUMMARY:Herr Rolf der Werwolf
URL;VALUE=URI:https://horn.gv.at
DESCRIPTION:tierischmystische Comedyshow
UID:20260420T012448-20201024T200000-20201024T210000
END:VEVENT
END:VCALENDAR