BEGIN:VCALENDAR
VERSION:2.0
PRODID:-//MediaDesign//MediaDesign.at//DE
CALSCALE:GREGORIAN
BEGIN:VEVENT
DTSTART:20201024T160000
DTEND:20201024T170000
LOCATION:Raabser Straße 15\, 3812 Groß-Siegharts
DTSTAMP:20260419T233904
SUMMARY:Pinocchio
URL;VALUE=URI:https://horn.gv.at
DESCRIPTION:
UID:20260419T233904-20201024T160000-20201024T170000
END:VEVENT
END:VCALENDAR