BEGIN:VCALENDAR
VERSION:2.0
PRODID:-//MediaDesign//MediaDesign.at//DE
CALSCALE:GREGORIAN
BEGIN:VEVENT
DTSTART:20201018T163000
DTEND:20201018T173000
LOCATION:Canisiusgasse 1\, 3580 Horn
DTSTAMP:20260419T122239
SUMMARY:Vergesst Zwerg Nase
URL;VALUE=URI:https://horn.gv.at
DESCRIPTION:jede Menge Spa in der Kche
UID:20260419T122239-20201018T163000-20201018T173000
END:VEVENT
END:VCALENDAR