BEGIN:VCALENDAR
VERSION:2.0
PRODID:-//MediaDesign//MediaDesign.at//DE
CALSCALE:GREGORIAN
BEGIN:VEVENT
DTSTART:20201018T150000
DTEND:20201018T160000
LOCATION:Canisiusgasse 1\, 3580 Horn
DTSTAMP:20260419T104921
SUMMARY:Alltag
URL;VALUE=URI:https://horn.gv.at
DESCRIPTION:raus aus dem tristen Alltag
UID:20260419T104921-20201018T150000-20201018T160000
END:VEVENT
END:VCALENDAR