BEGIN:VCALENDAR
VERSION:2.0
PRODID:-//MediaDesign//MediaDesign.at//DE
CALSCALE:GREGORIAN
BEGIN:VEVENT
DTSTART:20201020T180000
DTEND:20201020T190000
LOCATION:Piaristen Passage\, Top 6\, A-3589 Horn
DTSTAMP:20260419T152214
SUMMARY:Philosophiekreis
URL;VALUE=URI:https://horn.gv.at
DESCRIPTION:Enkeltauglich leben
UID:20260419T152214-20201020T180000-20201020T190000
END:VEVENT
END:VCALENDAR