BEGIN:VCALENDAR
VERSION:2.0
PRODID:-//MediaDesign//MediaDesign.at//DE
CALSCALE:GREGORIAN
BEGIN:VEVENT
DTSTART:20200915T180000
DTEND:20200915T190000
LOCATION:Piaristen Passage\, Top 6\, A-3589 Horn
DTSTAMP:20260421T210557
SUMMARY:Philosophiekreis
URL;VALUE=URI:https://horn.gv.at
DESCRIPTION:SelbstverantwortungAntwort
UID:20260421T210557-20200915T180000-20200915T190000
END:VEVENT
END:VCALENDAR