BEGIN:VCALENDAR
VERSION:2.0
PRODID:-//MediaDesign//MediaDesign.at//DE
CALSCALE:GREGORIAN
BEGIN:VEVENT
DTSTART:20200919T202500
DTEND:20200919T212500
LOCATION:Altbachweg 10\, 3580 Horn
DTSTAMP:20260421T113933
SUMMARY:SV Horn  FC Liefering
URL;VALUE=URI:https://horn.gv.at
DESCRIPTION:BE PART OF IT
UID:20260421T113933-20200919T202500-20200919T212500
END:VEVENT
END:VCALENDAR