BEGIN:VCALENDAR
VERSION:2.0
PRODID:-//MediaDesign//MediaDesign.at//DE
CALSCALE:GREGORIAN
BEGIN:VEVENT
DTSTART:20201031T200000
DTEND:20201031T210000
LOCATION:Canisiusgasse 1\, 3580 Horn
DTSTAMP:20260420T110433
SUMMARY:Late Night Liederabend
URL;VALUE=URI:https://horn.gv.at
DESCRIPTION:SZENE Waldviertel Festival 20
UID:20260420T110433-20201031T200000-20201031T210000
END:VEVENT
END:VCALENDAR