BEGIN:VCALENDAR
VERSION:2.0
PRODID:-//MediaDesign//MediaDesign.at//DE
CALSCALE:GREGORIAN
BEGIN:VEVENT
DTSTART:20201105T183000
DTEND:20201105T193000
LOCATION:Canisiusgasse 1\, 3580 Horn
DTSTAMP:20260420T123953
SUMMARY:ABGESAGT Buchprsentation
URL;VALUE=URI:https://horn.gv.at
DESCRIPTION:
UID:20260420T123953-20201105T183000-20201105T193000
END:VEVENT
END:VCALENDAR