BEGIN:VCALENDAR
VERSION:2.0
PRODID:-//MediaDesign//MediaDesign.at//DE
CALSCALE:GREGORIAN
BEGIN:VEVENT
DTSTART:20201022T103000
DTEND:20201022T113000
LOCATION:Kieselbreitengasse 18\, 3580 Horn
DTSTAMP:20260419T201934
SUMMARY:Sprechstunde
URL;VALUE=URI:https://horn.gv.at
DESCRIPTION:Fr sehbeeintrchtige Menschen
UID:20260419T201934-20201022T103000-20201022T113000
END:VEVENT
END:VCALENDAR