BEGIN:VCALENDAR
VERSION:2.0
PRODID:-//MediaDesign//MediaDesign.at//DE
CALSCALE:GREGORIAN
BEGIN:VEVENT
DTSTART:20201020T193000
DTEND:20201020T203000
LOCATION:Robert-Hamerling-Straße 17\, 3580 Horn
DTSTAMP:20260419T170941
SUMMARY:Mein Weg vom Kongo nach Europa
URL;VALUE=URI:https://horn.gv.at
DESCRIPTION:
UID:20260419T170941-20201020T193000-20201020T203000
END:VEVENT
END:VCALENDAR