BEGIN:VCALENDAR
VERSION:2.0
PRODID:-//MediaDesign//MediaDesign.at//DE
CALSCALE:GREGORIAN
BEGIN:VEVENT
DTSTART:20200914T090000
DTEND:20200914T100000
LOCATION:Wiener Straße 2\, 3580 Horn
DTSTAMP:20260421T224208
SUMMARY:Treffpunkt Tanz
URL;VALUE=URI:https://horn.gv.at
DESCRIPTION:
UID:20260421T224208-20200914T090000-20200914T100000
END:VEVENT
END:VCALENDAR