BEGIN:VCALENDAR
VERSION:2.0
PRODID:-//MediaDesign//MediaDesign.at//DE
CALSCALE:GREGORIAN
BEGIN:VEVENT
DTSTART:20200912T140000
DTEND:20200912T150000
LOCATION:Hauptplatz\, 3580 Horn
DTSTAMP:20260422T012812
SUMMARY:Wohnen an der Stadtmauer
URL;VALUE=URI:https://horn.gv.at
DESCRIPTION:Bauvisite
UID:20260422T012812-20200912T140000-20200912T150000
END:VEVENT
END:VCALENDAR