BEGIN:VCALENDAR
VERSION:2.0
PRODID:-//MediaDesign//MediaDesign.at//DE
CALSCALE:GREGORIAN
BEGIN:VEVENT
DTSTART:20200908T183000
DTEND:20200908T193000
LOCATION:Robert-Hamerling-Straße 1\, 3580 Horn
DTSTAMP:20260422T060048
SUMMARY:KneippAktivClub
URL;VALUE=URI:https://horn.gv.at
DESCRIPTION:Line Dance
UID:20260422T060048-20200908T183000-20200908T193000
END:VEVENT
END:VCALENDAR