BEGIN:VCALENDAR
VERSION:2.0
PRODID:-//MediaDesign//MediaDesign.at//DE
CALSCALE:GREGORIAN
BEGIN:VEVENT
DTSTART:20200908T141500
DTEND:20200908T151500
LOCATION:Wiener Straße 35\, 3580 Horn
DTSTAMP:20260422T090159
SUMMARY:MutterElternBeratung
URL;VALUE=URI:https://horn.gv.at
DESCRIPTION:
UID:20260422T090159-20200908T141500-20200908T151500
END:VEVENT
END:VCALENDAR