BEGIN:VCALENDAR
VERSION:2.0
PRODID:-//MediaDesign//MediaDesign.at//DE
CALSCALE:GREGORIAN
BEGIN:VEVENT
DTSTART:20200905T090000
DTEND:20200905T100000
LOCATION:Wiener Straße 5\, 3580 Horn
DTSTAMP:20260422T120916
SUMMARY:Faires Frhstck
URL;VALUE=URI:https://horn.gv.at
DESCRIPTION:SchutzengelMuffins
UID:20260422T120916-20200905T090000-20200905T100000
END:VEVENT
END:VCALENDAR