BEGIN:VCALENDAR
VERSION:2.0
PRODID:-//MediaDesign//MediaDesign.at//DE
CALSCALE:GREGORIAN
BEGIN:VEVENT
DTSTART:20200901T140000
DTEND:20200901T150000
LOCATION:Spitalgasse 10\, 3580 Horn
DTSTAMP:20260422T220558
SUMMARY:Gruppentreffen Parkinson 
URL;VALUE=URI:https://horn.gv.at
DESCRIPTION:Selbsthilfe
UID:20260422T220558-20200901T140000-20200901T150000
END:VEVENT
END:VCALENDAR