BEGIN:VCALENDAR
VERSION:2.0
PRODID:-//MediaDesign//MediaDesign.at//DE
CALSCALE:GREGORIAN
BEGIN:VEVENT
DTSTART:20201106T190000
DTEND:20201106T200000
LOCATION:Kirchenplatz 1\, 3580 Horn
DTSTAMP:20260420T141952
SUMMARY:GedchtnisGottesdienst
URL;VALUE=URI:https://horn.gv.at
DESCRIPTION:
UID:20260420T141952-20201106T190000-20201106T200000
END:VEVENT
END:VCALENDAR