BEGIN:VCALENDAR
VERSION:2.0
PRODID:-//MediaDesign//MediaDesign.at//DE
CALSCALE:GREGORIAN
BEGIN:VEVENT
DTSTART:20200918T065000
DTEND:20200918T075000
LOCATION:Pragerstraße 32\, 3580 Horn
DTSTAMP:20260421T132000
SUMMARY:Tagesausflug des CAV
URL;VALUE=URI:https://horn.gv.at
DESCRIPTION:
UID:20260421T132000-20200918T065000-20200918T075000
END:VEVENT
END:VCALENDAR