BEGIN:VCALENDAR
VERSION:2.0
PRODID:-//MediaDesign//MediaDesign.at//DE
CALSCALE:GREGORIAN
BEGIN:VEVENT
DTSTART:20200908T180000
DTEND:20200908T190000
LOCATION:Piaristen Passage\, Top 6\, A-3589 Horn
DTSTAMP:20260422T072444
SUMMARY:Lesung Es ist nicht September
URL;VALUE=URI:https://horn.gv.at
DESCRIPTION:mit Helga Maria Hornbachner
UID:20260422T072444-20200908T180000-20200908T190000
END:VEVENT
END:VCALENDAR