BEGIN:VCALENDAR
VERSION:2.0
PRODID:-//MediaDesign//MediaDesign.at//DE
CALSCALE:GREGORIAN
BEGIN:VEVENT
DTSTART:20200901T180000
DTEND:20200901T190000
LOCATION:Piaristen Passage\, Top 6\, A-3589 Horn
DTSTAMP:20260422T204324
SUMMARY:Waldviertler Gartenstammtisch
URL;VALUE=URI:https://horn.gv.at
DESCRIPTION:Humus Permakultur Terrra P
UID:20260422T204324-20200901T180000-20200901T190000
END:VEVENT
END:VCALENDAR