BEGIN:VCALENDAR
VERSION:2.0
PRODID:-//MediaDesign//MediaDesign.at//DE
CALSCALE:GREGORIAN
BEGIN:VEVENT
DTSTART:20200821T180000
DTEND:20200821T190000
LOCATION:Canisiusgasse 1\, 3580 Horn
DTSTAMP:20260423T142814
SUMMARY:IM WEITBLICK
URL;VALUE=URI:https://horn.gv.at
DESCRIPTION:Dialog Buchprsentation meet
UID:20260423T142814-20200821T180000-20200821T190000
END:VEVENT
END:VCALENDAR