BEGIN:VCALENDAR
VERSION:2.0
PRODID:-//MediaDesign//MediaDesign.at//DE
CALSCALE:GREGORIAN
BEGIN:VEVENT
DTSTART:20200816T140000
DTEND:20200816T150000
LOCATION:Taffatal Horn
DTSTAMP:20260423T235834
SUMMARY:AV Horn  Ferienaktion
URL;VALUE=URI:https://horn.gv.at
DESCRIPTION:Schnupperklettern im Taffatal
UID:20260423T235834-20200816T140000-20200816T150000
END:VEVENT
END:VCALENDAR