BEGIN:VCALENDAR
VERSION:2.0
PRODID:-//MediaDesign//MediaDesign.at//DE
CALSCALE:GREGORIAN
BEGIN:VEVENT
DTSTART:20200731T140000
DTEND:20200731T150000
LOCATION:Kirchenplatz\, 3580 Horn
DTSTAMP:20260424T222923
SUMMARY:Friday in the City Horn
URL;VALUE=URI:https://horn.gv.at
DESCRIPTION:Es geht in die zweite 
UID:20260424T222923-20200731T140000-20200731T150000
END:VEVENT
END:VCALENDAR