BEGIN:VCALENDAR
VERSION:2.0
PRODID:-//MediaDesign//MediaDesign.at//DE
CALSCALE:GREGORIAN
BEGIN:VEVENT
DTSTART:20200806T180000
DTEND:20200806T190000
LOCATION:Wiener Strasse 4\, 3580 Horn
DTSTAMP:20260424T164249
SUMMARY:treffpunkt TANZ
URL;VALUE=URI:https://horn.gv.at
DESCRIPTION:Tanzen ab der Lebensmitte
UID:20260424T164249-20200806T180000-20200806T190000
END:VEVENT
END:VCALENDAR