BEGIN:VCALENDAR
VERSION:2.0
PRODID:-//MediaDesign//MediaDesign.at//DE
CALSCALE:GREGORIAN
BEGIN:VEVENT
DTSTART:20200810T090000
DTEND:20200810T100000
LOCATION:Josef-Strommer-Straße 20\, 3580 Horn
DTSTAMP:20260424T110548
SUMMARY:Tierischer Spa Ferien
URL;VALUE=URI:https://horn.gv.at
DESCRIPTION:
UID:20260424T110548-20200810T090000-20200810T100000
END:VEVENT
END:VCALENDAR