BEGIN:VCALENDAR
VERSION:2.0
PRODID:-//MediaDesign//MediaDesign.at//DE
CALSCALE:GREGORIAN
BEGIN:VEVENT
DTSTART:20200727T090000
DTEND:20200727T100000
LOCATION:Josef-Strommer-Straße 20\, 3580 Horn
DTSTAMP:20260424T064129
SUMMARY:Huhn und Co Ferien
URL;VALUE=URI:https://horn.gv.at
DESCRIPTION:
UID:20260424T064129-20200727T090000-20200727T100000
END:VEVENT
END:VCALENDAR