BEGIN:VCALENDAR
VERSION:2.0
PRODID:-//MediaDesign//MediaDesign.at//DE
CALSCALE:GREGORIAN
BEGIN:VEVENT
DTSTART:20200713T100000
DTEND:20200713T110000
LOCATION:Josef-Strommer-Straße 20\, 3580 Horn
DTSTAMP:20260423T125009
SUMMARY:Kinderyoga mit Tieren Ferien
URL;VALUE=URI:https://horn.gv.at
DESCRIPTION:
UID:20260423T125009-20200713T100000-20200713T110000
END:VEVENT
END:VCALENDAR