BEGIN:VCALENDAR
VERSION:2.0
PRODID:-//MediaDesign//MediaDesign.at//DE
CALSCALE:GREGORIAN
BEGIN:VEVENT
DTSTART:20200717T140000
DTEND:20200717T150000
LOCATION:Kirchenplatz\, 3580 Horn
DTSTAMP:20260423T200655
SUMMARY:Friday in the City
URL;VALUE=URI:https://horn.gv.at
DESCRIPTION:Kunst Kultur Kulinarik
UID:20260423T200655-20200717T140000-20200717T150000
END:VEVENT
END:VCALENDAR