BEGIN:VCALENDAR
VERSION:2.0
PRODID:-//MediaDesign//MediaDesign.at//DE
CALSCALE:GREGORIAN
BEGIN:VEVENT
DTSTART:20200818T093000
DTEND:20200818T103000
LOCATION:Wiener Straße 7\, 3580 Horn
DTSTAMP:20260423T212649
SUMMARY:Tpfern
URL;VALUE=URI:https://horn.gv.at
DESCRIPTION:Arbeiten mit Ton
UID:20260423T212649-20200818T093000-20200818T103000
END:VEVENT
END:VCALENDAR