BEGIN:VCALENDAR
VERSION:2.0
PRODID:-//MediaDesign//MediaDesign.at//DE
CALSCALE:GREGORIAN
BEGIN:VEVENT
DTSTART:20200728T093000
DTEND:20200728T103000
LOCATION:Wiener Straße 7\, 3580 Horn
DTSTAMP:20260424T084024
SUMMARY:Malen fr Kids Ferienspiel
URL;VALUE=URI:https://horn.gv.at
DESCRIPTION:
UID:20260424T084024-20200728T093000-20200728T103000
END:VEVENT
END:VCALENDAR