BEGIN:VCALENDAR
VERSION:2.0
PRODID:-//MediaDesign//MediaDesign.at//DE
CALSCALE:GREGORIAN
BEGIN:VEVENT
DTSTART:20200714T093000
DTEND:20200714T103000
LOCATION:Wiener Straße 7 - Piaristen Passage\, 3580 Horn
DTSTAMP:20260423T142806
SUMMARY:Malen fr Kids Ferienspiel
URL;VALUE=URI:https://horn.gv.at
DESCRIPTION:
UID:20260423T142806-20200714T093000-20200714T103000
END:VEVENT
END:VCALENDAR