BEGIN:VCALENDAR
VERSION:2.0
PRODID:-//MediaDesign//MediaDesign.at//DE
CALSCALE:GREGORIAN
BEGIN:VEVENT
DTSTART:20200729T170000
DTEND:20200729T180000
LOCATION:Wiener Strasse 4\, 3580 Horn
DTSTAMP:20260424T094908
SUMMARY:Nacht im Museum
URL;VALUE=URI:https://horn.gv.at
DESCRIPTION:fr Kinder von 811 Jahre
UID:20260424T094908-20200729T170000-20200729T180000
END:VEVENT
END:VCALENDAR