BEGIN:VCALENDAR
VERSION:2.0
PRODID:-//MediaDesign//MediaDesign.at//DE
CALSCALE:GREGORIAN
BEGIN:VEVENT
DTSTART:20200718T100000
DTEND:20200718T110000
LOCATION:Wiener Strasse 4\, 3580 Horn
DTSTAMP:20260423T224359
SUMMARY:Museumsstammtisch
URL;VALUE=URI:https://horn.gv.at
DESCRIPTION:Museum Horn 
UID:20260423T224359-20200718T100000-20200718T110000
END:VEVENT
END:VCALENDAR