BEGIN:VCALENDAR
VERSION:2.0
PRODID:-//MediaDesign//MediaDesign.at//DE
CALSCALE:GREGORIAN
BEGIN:VEVENT
DTSTART:20200826T183000
DTEND:20200826T193000
LOCATION:Wiener Strasse 4\, 3580 Horn
DTSTAMP:20260423T065239
SUMMARY:Museumsmittwoch
URL;VALUE=URI:https://horn.gv.at
DESCRIPTION:Stadtgeschichte kindgerecht
UID:20260423T065239-20200826T183000-20200826T193000
END:VEVENT
END:VCALENDAR