BEGIN:VCALENDAR
VERSION:2.0
PRODID:-//MediaDesign//MediaDesign.at//DE
CALSCALE:GREGORIAN
BEGIN:VEVENT
DTSTART:20200812T183000
DTEND:20200812T193000
LOCATION:Wiener Strasse 4\, 3580 Horn
DTSTAMP:20260424T072318
SUMMARY:Museumsmittwoch
URL;VALUE=URI:https://horn.gv.at
DESCRIPTION:112 Jahre EWerk Horn 
UID:20260424T072318-20200812T183000-20200812T193000
END:VEVENT
END:VCALENDAR