BEGIN:VCALENDAR
VERSION:2.0
PRODID:-//MediaDesign//MediaDesign.at//DE
CALSCALE:GREGORIAN
BEGIN:VEVENT
DTSTART:20200722T183000
DTEND:20200722T193000
LOCATION:Wiener Strasse 4\, 3580 Horn
DTSTAMP:20260424T024947
SUMMARY:Museumsmittwoch
URL;VALUE=URI:https://horn.gv.at
DESCRIPTION:Baugeschichte des Museums
UID:20260424T024947-20200722T183000-20200722T193000
END:VEVENT
END:VCALENDAR