BEGIN:VCALENDAR
VERSION:2.0
PRODID:-//MediaDesign//MediaDesign.at//DE
CALSCALE:GREGORIAN
BEGIN:VEVENT
DTSTART:20200708T183000
DTEND:20200708T193000
LOCATION:Wiener Strasse 4\, 3580 Horn 
DTSTAMP:20260423T084616
SUMMARY:Museumsmittwoch
URL;VALUE=URI:https://horn.gv.at
DESCRIPTION:Grasel  eine Ruberfhrung 
UID:20260423T084616-20200708T183000-20200708T193000
END:VEVENT
END:VCALENDAR