BEGIN:VCALENDAR
VERSION:2.0
PRODID:-//MediaDesign//MediaDesign.at//DE
CALSCALE:GREGORIAN
BEGIN:VEVENT
DTSTART:20201107T200000
DTEND:20201107T210000
LOCATION:Wiener Straße 2\, 3580 Horn
DTSTAMP:20260420T173303
SUMMARY:ABGESAGT Der Nino aus Wien
URL;VALUE=URI:https://horn.gv.at
DESCRIPTION:
UID:20260420T173303-20201107T200000-20201107T210000
END:VEVENT
END:VCALENDAR