BEGIN:VCALENDAR
VERSION:2.0
PRODID:-//MediaDesign//MediaDesign.at//DE
CALSCALE:GREGORIAN
BEGIN:VEVENT
DTSTART:20200522T100000
DTEND:20200522T110000
LOCATION: Frauenhofner Str. 2\, 3580 Horn
DTSTAMP:20260422T145052
SUMMARY:MrsSporty Outdoortraining
URL;VALUE=URI:https://horn.gv.at
DESCRIPTION:
UID:20260422T145052-20200522T100000-20200522T110000
END:VEVENT
END:VCALENDAR