BEGIN:VCALENDAR
VERSION:2.0
PRODID:-//MediaDesign//MediaDesign.at//DE
CALSCALE:GREGORIAN
BEGIN:VEVENT
DTSTART:20200520T093000
DTEND:20200520T103000
LOCATION: Frauenhofner Str. 2\, 3580 Horn
DTSTAMP:20260422T162306
SUMMARY:MrsSporty Outdoortraining
URL;VALUE=URI:https://horn.gv.at
DESCRIPTION:
UID:20260422T162306-20200520T093000-20200520T103000
END:VEVENT
END:VCALENDAR