BEGIN:VCALENDAR
VERSION:2.0
PRODID:-//MediaDesign//MediaDesign.at//DE
CALSCALE:GREGORIAN
BEGIN:VEVENT
DTSTART:20200519T183000
DTEND:20200519T193000
LOCATION: Frauenhofner Str. 2\, 3580 Horn
DTSTAMP:20260422T180308
SUMMARY:MrsSporty Outdoortraining
URL;VALUE=URI:https://horn.gv.at
DESCRIPTION:
UID:20260422T180308-20200519T183000-20200519T193000
END:VEVENT
END:VCALENDAR