BEGIN:VCALENDAR
VERSION:2.0
PRODID:-//MediaDesign//MediaDesign.at//DE
CALSCALE:GREGORIAN
BEGIN:VEVENT
DTSTART:20200518T130000
DTEND:20200518T140000
LOCATION: Frauenhofner Str. 2\, 3580 Horn
DTSTAMP:20260422T192816
SUMMARY:MrsSporty Outdoortraining
URL;VALUE=URI:https://horn.gv.at
DESCRIPTION:
UID:20260422T192816-20200518T130000-20200518T140000
END:VEVENT
END:VCALENDAR