BEGIN:VCALENDAR
VERSION:2.0
PRODID:-//MediaDesign//MediaDesign.at//DE
CALSCALE:GREGORIAN
BEGIN:VEVENT
DTSTART:20200515T100000
DTEND:20200515T110000
LOCATION: Frauenhofner Str. 2\, 3580 Horn
DTSTAMP:20260422T210153
SUMMARY:MrsSporty Outdoortraining
URL;VALUE=URI:https://horn.gv.at
DESCRIPTION:
UID:20260422T210153-20200515T100000-20200515T110000
END:VEVENT
END:VCALENDAR