BEGIN:VCALENDAR
VERSION:2.0
PRODID:-//MediaDesign//MediaDesign.at//DE
CALSCALE:GREGORIAN
BEGIN:VEVENT
DTSTART:20200615T073000
DTEND:20200615T083000
LOCATION:Gartengasse 1\, 3580 Horn
DTSTAMP:20260422T232117
SUMMARY:Anmeldung HAK
URL;VALUE=URI:https://horn.gv.at
DESCRIPTION:
UID:20260422T232117-20200615T073000-20200615T083000
END:VEVENT
END:VCALENDAR