BEGIN:VCALENDAR
VERSION:2.0
PRODID:-//MediaDesign//MediaDesign.at//DE
CALSCALE:GREGORIAN
BEGIN:VEVENT
DTSTART:20200920T160000
DTEND:20200920T170000
LOCATION:Abt-Placidus-Much Str. 1\, 3591 Altenburg
DTSTAMP:20260417T063823
SUMMARY:Festivalabschlusskonzert
URL;VALUE=URI:https://horn.gv.at
DESCRIPTION:Allegro Vivo Festival
UID:20260417T063823-20200920T160000-20200920T170000
END:VEVENT
END:VCALENDAR