BEGIN:VCALENDAR
VERSION:2.0
PRODID:-//MediaDesign//MediaDesign.at//DE
CALSCALE:GREGORIAN
BEGIN:VEVENT
DTSTART:20200904T193000
DTEND:20200904T203000
LOCATION:Wiener Str. 2\, 3580 Horn
DTSTAMP:20260422T145347
SUMMARY:Konzert der Meisterkurse
URL;VALUE=URI:https://horn.gv.at
DESCRIPTION:Allegro Vivo Festival
UID:20260422T145347-20200904T193000-20200904T203000
END:VEVENT
END:VCALENDAR